BEGIN:VCALENDAR
VERSION:2.0
PRODID:-//hacksw/handcal//NONSGML v1.0//EN
CALSCALE:GREGORIAN
BEGIN:VEVENT
ORGANIZER;CN=Thomson Reuters:MAILTO:no-reply@mail.gcs-web.com
DTEND:
UID:c5a608c3-9b60-4a41-b0b9-538bac4adb55
DTSTAMP:1777049405
LOCATION:https://event.webcasts.com/starthere.jsp?ei=1740712&tp_key=d08ff7be5f
DESCRIPTION:Event Details https://investors.thomsonreuters.com/events/event-details/thomson-reuters-reports-first-quarter-2026-earnings\n\nWebcast: https://event.webcasts.com/starthere.jsp?ei=1740712&tp_key=d08ff7be5f
URL;VALUE=URI:https://event.webcasts.com/starthere.jsp?ei=1740712&tp_key=d08ff7be5f
SUMMARY:Thomson Reuters - Thomson Reuters Reports First Quarter 2026 Earnings
DTSTART:20260505T130000Z
END:VEVENT
END:VCALENDAR